BEGIN:VCALENDAR
VERSION:2.0
PRODID:-//PYVOBJECT//NONSGML Version 0.9.9//EN
X-WR-TIMEZONE:Africa/Johannesburg
BEGIN:VTIMEZONE
TZID:Africa/Johannesburg
BEGIN:STANDARD
DTSTART:20000101T000000
RRULE:FREQ=YEARLY;BYMONTH=1
TZNAME:SAST
TZOFFSETFROM:+0200
TZOFFSETTO:+0200
END:STANDARD
END:VTIMEZONE
BEGIN:VEVENT
UID:20260424T114821Z - 59112@eos-content
DTSTART;TZID=Africa/Johannesburg:20260424T140000
DTEND;TZID=Africa/Johannesburg:20260424T170000
ATTENDEE:MAILTO:marie@jawitzmosselbay.co.za
DESCRIPTION:https://www.jawitz.co.za/results/residential/for-sale/klein-bra
 k-rivier/fraaiuitsig/house/3149984/\n\nView by appointment\n\nMarie Du Toi
 t (062 155 6113)
DTSTAMP:20260424T114821Z
LOCATION:Fraaiuitsig\, Klein Brak Rivier
SUMMARY:Jawitz Properties Show Day - JRL41356
END:VEVENT
END:VCALENDAR
