BEGIN:VCALENDAR
VERSION:2.0
PRODID:-//PYVOBJECT//NONSGML Version 0.9.9//EN
X-WR-TIMEZONE:Africa/Johannesburg
BEGIN:VTIMEZONE
TZID:Africa/Johannesburg
BEGIN:STANDARD
DTSTART:20000101T000000
RRULE:FREQ=YEARLY;BYMONTH=1
TZNAME:SAST
TZOFFSETFROM:+0200
TZOFFSETTO:+0200
END:STANDARD
END:VTIMEZONE
BEGIN:VEVENT
UID:20260423T095440Z - 9975@eos-content
DTSTART;TZID=Africa/Johannesburg:20260426T140000
DTEND;TZID=Africa/Johannesburg:20260426T170000
ATTENDEE:MAILTO:colleen@jawitz.co.za
DESCRIPTION:https://www.jawitz.co.za/results/residential/for-sale/randburg/
 victory-park/apartment/3137496/13-king-gardens-25-pentrich-street/\n\nTRAV
 EL NORTH ALONG 1ST AVENUE\, TURN RIGHT INTO ROAD NO. 3\, RIGHT INTO HEYTOR
  ROAD\, RIGHT INTO PENTRICH ROAD.\nFOLLOW JAWITZ POINTER BOARDS.\n\nCollee
 n Tappin (082 659 8013)
DTSTAMP:20260423T095440Z
LOCATION:13 King Gardens\, 25 Pentrich Street\, Victory Park\, Randburg
SUMMARY:Jawitz Properties Show Day - JRL41026
END:VEVENT
END:VCALENDAR
