BEGIN:VCALENDAR
VERSION:2.0
PRODID:-//PYVOBJECT//NONSGML Version 0.9.9//EN
X-WR-TIMEZONE:Africa/Johannesburg
BEGIN:VTIMEZONE
TZID:Africa/Johannesburg
BEGIN:STANDARD
DTSTART:20000101T000000
RRULE:FREQ=YEARLY;BYMONTH=1
TZNAME:SAST
TZOFFSETFROM:+0200
TZOFFSETTO:+0200
END:STANDARD
END:VTIMEZONE
BEGIN:VEVENT
UID:20260423T081026Z - 23833@eos-content
DTSTART;TZID=Africa/Johannesburg:20260429T120000
DTEND;TZID=Africa/Johannesburg:20260429T140000
ATTENDEE:MAILTO:paul@jawitzwesternseaboard.co.za
DESCRIPTION:https://www.jawitz.co.za/results/residential/for-sale/cape-town
 /morning-star/smallholding/3014539/54-zonnekus-road/\n\nBy Appointment Pau
 l 0633344662\n\nPaul Labuschagne (063 334 4662)
DTSTAMP:20260423T081026Z
LOCATION:54 Zonnekus Road\, Morning Star\, Cape Town
SUMMARY:Jawitz Properties Show Day - JRL38230
END:VEVENT
END:VCALENDAR
