BEGIN:VCALENDAR
VERSION:2.0
PRODID:-//PYVOBJECT//NONSGML Version 0.9.9//EN
X-WR-TIMEZONE:Africa/Johannesburg
BEGIN:VTIMEZONE
TZID:Africa/Johannesburg
BEGIN:STANDARD
DTSTART:20000101T000000
RRULE:FREQ=YEARLY;BYMONTH=1
TZNAME:SAST
TZOFFSETFROM:+0200
TZOFFSETTO:+0200
END:STANDARD
END:VTIMEZONE
BEGIN:VEVENT
UID:20260423T144046Z - 91957@eos-content
DTSTART;TZID=Africa/Johannesburg:20260428T180000
DTEND;TZID=Africa/Johannesburg:20260428T190000
ATTENDEE:MAILTO:paul@jawitzwesternseaboard.co.za
DESCRIPTION:https://www.jawitz.co.za/results/residential/for-sale/melkbosst
 rand/van-riebeeckstrand/house/2996931/\n\nBy Appointment only Paul 0633344
 662\n\nPaul Labuschagne (063 334 4662)
DTSTAMP:20260423T144046Z
LOCATION:Van Riebeeckstrand\, Melkbosstrand
SUMMARY:Jawitz Properties Show Day - JRL37955
END:VEVENT
END:VCALENDAR
