BEGIN:VCALENDAR
VERSION:2.0
PRODID:-//PYVOBJECT//NONSGML Version 0.9.9//EN
X-WR-TIMEZONE:Africa/Johannesburg
BEGIN:VTIMEZONE
TZID:Africa/Johannesburg
BEGIN:STANDARD
DTSTART:20000101T000000
RRULE:FREQ=YEARLY;BYMONTH=1
TZNAME:SAST
TZOFFSETFROM:+0200
TZOFFSETTO:+0200
END:STANDARD
END:VTIMEZONE
BEGIN:VEVENT
UID:20260424T142246Z - 96608@eos-content
DTSTART;TZID=Africa/Johannesburg:20260425T110000
DTEND;TZID=Africa/Johannesburg:20260425T140000
ATTENDEE:MAILTO:bianca@jawitzwestcoast.co.za
DESCRIPTION:https://www.jawitz.co.za/results/residential/for-sale/langebaan
 /long-acres-country-estate/house/2987991/\n\nContact agent to book viewing
 \n\nBianca Beneke (083 272 5603)
DTSTAMP:20260424T142246Z
LOCATION:Long Acres Country Estate\, Langebaan
SUMMARY:Jawitz Properties Show Day - JRL37726
END:VEVENT
END:VCALENDAR
