BEGIN:VCALENDAR
VERSION:2.0
PRODID:-//PYVOBJECT//NONSGML Version 0.9.9//EN
X-WR-TIMEZONE:Africa/Johannesburg
BEGIN:VTIMEZONE
TZID:Africa/Johannesburg
BEGIN:STANDARD
DTSTART:20000101T000000
RRULE:FREQ=YEARLY;BYMONTH=1
TZNAME:SAST
TZOFFSETFROM:+0200
TZOFFSETTO:+0200
END:STANDARD
END:VTIMEZONE
BEGIN:VEVENT
UID:20260422T124733Z - 26191@eos-content
DTSTART;TZID=Africa/Johannesburg:20260429T140000
DTEND;TZID=Africa/Johannesburg:20260429T150000
ATTENDEE:MAILTO:paul@jawitzwesternseaboard.co.za
DESCRIPTION:https://www.jawitz.co.za/results/residential/for-sale/cape-town
 /cape-farms/house/2984842/28-hunters-valley-28-hunters-valley-road/\n\nACC
 ESS Controlled area - By appointment Paul 0633344662\n\nPaul Labuschagne (
 063 334 4662)
DTSTAMP:20260422T124733Z
LOCATION:28 Hunters Valley\, 28 Hunter's Valley Road\, Cape Farms\, Cape To
 wn
SUMMARY:Jawitz Properties Show Day - JRL37661
END:VEVENT
END:VCALENDAR
