BEGIN:VCALENDAR
VERSION:2.0
PRODID:-//PYVOBJECT//NONSGML Version 0.9.9//EN
X-WR-TIMEZONE:Africa/Johannesburg
BEGIN:VTIMEZONE
TZID:Africa/Johannesburg
BEGIN:STANDARD
DTSTART:20000101T000000
RRULE:FREQ=YEARLY;BYMONTH=1
TZNAME:SAST
TZOFFSETFROM:+0200
TZOFFSETTO:+0200
END:STANDARD
END:VTIMEZONE
BEGIN:VEVENT
UID:20260424T144215Z - 19586@eos-content
DTSTART;TZID=Africa/Johannesburg:20260426T140000
DTEND;TZID=Africa/Johannesburg:20260426T160000
ATTENDEE:MAILTO:sisa@jawitz.co.za
DESCRIPTION:https://www.jawitz.co.za/results/residential/for-sale/sandton/m
 orningside-manor/house/2981321/\n\nPlease contact the Agent.\n\nSisa Ntuli
  (079 817 3991)
DTSTAMP:20260424T144215Z
LOCATION:Morningside Manor\, Sandton
SUMMARY:Jawitz Properties Show Day - JRL37594
END:VEVENT
END:VCALENDAR
