BEGIN:VCALENDAR
VERSION:2.0
PRODID:-//PYVOBJECT//NONSGML Version 0.9.9//EN
X-WR-TIMEZONE:Africa/Johannesburg
BEGIN:VTIMEZONE
TZID:Africa/Johannesburg
BEGIN:STANDARD
DTSTART:20000101T000000
RRULE:FREQ=YEARLY;BYMONTH=1
TZNAME:SAST
TZOFFSETFROM:+0200
TZOFFSETTO:+0200
END:STANDARD
END:VTIMEZONE
BEGIN:VEVENT
UID:20260425T130754Z - 69474@eos-content
DTSTART;TZID=Africa/Johannesburg:20260426T140000
DTEND;TZID=Africa/Johannesburg:20260426T170000
ATTENDEE:MAILTO:michael.levy@jawitz.co.za
ATTENDEE:MAILTO:kyle@jawitz.co.za
DESCRIPTION:https://www.jawitz.co.za/results/residential/for-sale/edenvale/
 lakeside-village/house/2965931/46-crummock-avenue/\n\nFollow show day boar
 ds from Flamingo Shopping Centre and entrance to Lakeside Village Estate\n
 \nMichael Levy (083 616 0039)\n\nKyle Leist (072 157 6226)
DTSTAMP:20260425T130754Z
LOCATION:46 Crummock Avenue\, Lakeside Village\, Edenvale
SUMMARY:Jawitz Properties Show Day - JRL37183
END:VEVENT
END:VCALENDAR
