BEGIN:VCALENDAR
VERSION:2.0
PRODID:-//PYVOBJECT//NONSGML Version 0.9.9//EN
X-WR-TIMEZONE:Africa/Johannesburg
BEGIN:VTIMEZONE
TZID:Africa/Johannesburg
BEGIN:STANDARD
DTSTART:20000101T000000
RRULE:FREQ=YEARLY;BYMONTH=1
TZNAME:SAST
TZOFFSETFROM:+0200
TZOFFSETTO:+0200
END:STANDARD
END:VTIMEZONE
BEGIN:VEVENT
UID:20260425T145350Z - 7020@eos-content
DTSTART;TZID=Africa/Johannesburg:20260425T110000
DTEND;TZID=Africa/Johannesburg:20260425T140000
ATTENDEE:MAILTO:bianca@jawitzwestcoast.co.za
DESCRIPTION:https://www.jawitz.co.za/results/residential/for-sale/langebaan
 /long-acres-country-estate/house/2933142/\n\nContact agent to book your vi
 ewing\n\nBianca Beneke (083 272 5603)
DTSTAMP:20260425T145350Z
LOCATION:Long Acres Country Estate\, Langebaan
SUMMARY:Jawitz Properties Show Day - JRL35949
END:VEVENT
END:VCALENDAR
